BEGIN:VCALENDAR
VERSION:2.0
PRODID:-//wp-events-plugin.com//7.2.3.1//EN
TZID:America/New_York
X-WR-TIMEZONE:America/New_York
BEGIN:VEVENT
UID:5894@stormking.org
DTSTART;TZID=America/New_York:20260422T180000
DTEND;TZID=America/New_York:20260422T193000
DTSTAMP:20260312T184809Z
URL:https://stormking.org/events/collection-selections-earth-day-earthwork
 s/
SUMMARY:Member Event—Collection Selections: Earth Day // Earthworks
DESCRIPTION:\n\nStorm King's collection includes significant works of land 
 art. This Earth Day\, we’re celebrating with a special after-hours walki
 ng tour of Storm King’s earthworks. This tour will highlight the collect
 ion works made using natural materials from Storm King's landscape\, inclu
 ding Andy Goldsworthy’s Storm King Wall\, Maya Lin’s Wavefield\, and P
 atricia Johanson’s Nostoc II.\n\n 	Free for Members\, registration is re
 quired.\n 	Guests limited by Member level.\n 	Tour will meet at the Outdoo
 r Lobby and will depart at 6:00 PM. Please arrive early to allow time to c
 heck in.\n\nInterested in Membership? Join to attend &gt\;\n\nCollection S
 elections: Explore Storm King’s world-class sculpture collection through
  curator-led tours themed by topic. In 2026\, Members will have the opport
 unity to take a tour of Storm King’s land art in April\, explore minimal
 ist sculpture in July\, and learn about our permanent collection on displa
 y indoors in November.\n\n\n\nAMENITIES\nVisitor amenities such as the Out
 door Cafe\, Bike Rentals\, and Tram Loop will not be available during the 
 event.\n\nACCESSIBILITY \nRestrooms\nAccessible\, single-occupancy restroo
 m stalls are located in the Outdoor Lobby\, near the entrance.\n\nTerrain 
 and Getting Around\nThe tour will take place across varied terrain includi
 ng hills\, wooded areas\, paved paths\, gravel paths\, and mown lawn. Expe
 ct to cover 1 to 1.5 miles on the tour.\n\nASL interpretation\, and Assist
 ive Listening Devices for guided tours are available upon request at least
  7 business days in advance. Every effort will be made to honor requests m
 ade with less notice.\n\nIf you have questions or need other accommodation
 s\, please email membership@stormkingartcenter.org.
ATTACH;FMTTYPE=image/jpeg:https://stormking.org/wp-content/uploads/2026/03
 /image-9352.jpg
CATEGORIES:Member Events,Tours
END:VEVENT
BEGIN:VTIMEZONE
TZID:America/New_York
X-LIC-LOCATION:America/New_York
BEGIN:DAYLIGHT
DTSTART:20260308T030000
TZOFFSETFROM:-0500
TZOFFSETTO:-0400
TZNAME:EDT
END:DAYLIGHT
END:VTIMEZONE
END:VCALENDAR