BEGIN:VCALENDAR
VERSION:2.0
PRODID:-//wp-events-plugin.com//7.2.3.1//EN
TZID:America/New_York
X-WR-TIMEZONE:America/New_York
BEGIN:VEVENT
UID:6140@stormking.org
DTSTART;TZID=America/New_York:20260822T094500
DTEND;TZID=America/New_York:20260822T104500
DTSTAMP:20260422T195633Z
URL:https://stormking.org/events/member-yoga-2-2026-08-22/
SUMMARY:Member Yoga
DESCRIPTION:\n\n\n\n\nWeekly yoga classes are open to Storm King Members! L
 ed by local seasoned professionals\, these hour-long sessions are open to 
 all experience levels. Classes are held on Museum Hill\, with an amazing S
 torm King view as you practice. In inclement weather\, class moves indoors
 . Bring your own mat\, and enjoy yoga in art and nature!\n\n 	Yoga classes
  are free for Members and don’t require registration.\n 	Bring your own 
 yoga mat.\n 	Classes are usually on the grass outside of the Museum Buildi
 ng on Museum Hill\, but may take place at other locations\, pending other 
 events or weather. Check in at the ticket pavilion to confirm location.\n 
 	Museum Hill is a 10-15-minute walk from the parking lot—we recommend ar
 riving at 9:30AM to ensure full participation.\n\nNot yet a member? Join t
 oday &gt\;\n\n\n\nACCESSIBILITY\n\nLet staff at the ticket pavilion know i
 f you require assistance to Museum Hill—cart rides are available for tho
 se who need them.\n\n&nbsp\;
CATEGORIES:Member Events,Yoga
END:VEVENT
BEGIN:VTIMEZONE
TZID:America/New_York
X-LIC-LOCATION:America/New_York
BEGIN:DAYLIGHT
DTSTART:20260308T030000
TZOFFSETFROM:-0500
TZOFFSETTO:-0400
TZNAME:EDT
END:DAYLIGHT
END:VTIMEZONE
END:VCALENDAR