BEGIN:VCALENDAR
VERSION:2.0
PRODID:-//wp-events-plugin.com//7.2.3.1//EN
TZID:America/New_York
X-WR-TIMEZONE:America/New_York
BEGIN:VEVENT
UID:5900@stormking.org
DTSTART;TZID=America/New_York:20260627T140000
DTEND;TZID=America/New_York:20260627T160000
DTSTAMP:20260421T193708Z
URL:https://stormking.org/events/message-from-the-mud-a-conversation-with-
 anicka-yi/
SUMMARY:Message from the Mud: A Conversation with Anicka Yi
DESCRIPTION:[caption id="attachment_30252" align="alignnone" width="1024"] 
 Photo by Jeffrey Jenkins[/caption]\n\n2:00PM: Artist Talk\nJoin Anicka Yi
  for a conversation on Message from the Mud\, the artist’s first large
 -scale outdoor installation. The conversation will provide contour to the 
 installation\, exploring the ideas\, influences\, and processes that shape
  the work.\n\n3:15PM: Before Skeletons\, Before Teeth\nFollowing the talk\
 , guests are invited to explore the work and enjoy Before Skeletons\, Befo
 re Teeth\, a prehistoric culinary experience by Anicka Yi with Care of Cha
 n.\n\n 	Free with admission\, no registration required\n 	Program location
 : meet in South Ponds by Tram Stop #2 / Map #810\n\nACCESSIBILITY\nRestroo
 ms\nThere are no restrooms immediately nearby the program location. The cl
 osest restrooms are located at the South Picnic Area\, which is about ¼ m
 ile from the program location\, and includes an ADA portable restroom stal
 l. There is about 120 ft. of level\, mown grass between the paved pathway 
 and the restroom enclosures. Accessible single-user and family restrooms a
 re available at the outdoor lobby near the entrance.\n\nTerrain and Gettin
 g Around\nPlease allow ample time to travel to the program location. We re
 commend arriving at Storm King at least an hour before the program.\n\nThe
  program location can be accessed via mostly level paved paths\, ½ mi fro
 m the parking area. It can also be reached by taking the tram loop to Stop
  #2. The program tent will be on grass\, approximately 100 ft. from the pa
 ved path.\n\nASL interpretation is available upon request two weeks in ad
 vance. Every effort will be made to honor requests made with less notice.\
 n\nIf you have questions or need other accommodations\, please email info@
 stormkingartcenter.org.
CATEGORIES:Talks
END:VEVENT
BEGIN:VTIMEZONE
TZID:America/New_York
X-LIC-LOCATION:America/New_York
BEGIN:DAYLIGHT
DTSTART:20260308T030000
TZOFFSETFROM:-0500
TZOFFSETTO:-0400
TZNAME:EDT
END:DAYLIGHT
END:VTIMEZONE
END:VCALENDAR