BEGIN:VCALENDAR
VERSION:2.0
PRODID:-//wp-events-plugin.com//7.2.3.1//EN
TZID:America/New_York
X-WR-TIMEZONE:America/New_York
BEGIN:VEVENT
UID:5895@stormking.org
DTSTART;TZID=America/New_York:20260825T150000
DTEND;TZID=America/New_York:20260825T193000
DTSTAMP:20260327T005043Z
URL:https://stormking.org/events/outstanding-in-the-field-2/
SUMMARY:Outstanding in the Field
DESCRIPTION:\n\nWe're looking forward to partnering with Outstanding in the
  Field on producing an unforgettable evening of dining on our site. Read m
 ore about the event\, and purchase tickets&gt\;\n\nFrom our partner:\nIs t
 his a next level Extraordinary in the Field? We return to the storied grou
 nds of Storm King to set our iconic table in the company of massive sculpt
 ures set amidst acres of manicured meadows and forested woodlands. Followi
 ng a reception on a hilltop overlooking the art installations [with remark
 s from Executive Director Nora Lawrence]\, we will stroll down the hill to
  the table below.\n\nKnown for his mastery of the wood-fired hearth\, Chef
  Rafiq Salim will bring his art-de-cuisine to the field kitchen among the 
 sculptures. After training with some of the industry’s most celebrated c
 hefs\, Rafiq earned national recognition in 2023\, when he was named a Sta
 rChefs New York Rising Star. This year\, he’s been named a semifinalist 
 for the James Beard Award for Best Chef: New York State\, further cementin
 g his reputation as one of the region’s most exciting culinary talents.\
 n\n&nbsp\;
CATEGORIES:Special Events
END:VEVENT
BEGIN:VTIMEZONE
TZID:America/New_York
X-LIC-LOCATION:America/New_York
BEGIN:DAYLIGHT
DTSTART:20260308T030000
TZOFFSETFROM:-0500
TZOFFSETTO:-0400
TZNAME:EDT
END:DAYLIGHT
END:VTIMEZONE
END:VCALENDAR