BEGIN:VCALENDAR
VERSION:2.0
PRODID:-//wp-events-plugin.com//7.2.3.1//EN
TZID:America/New_York
X-WR-TIMEZONE:America/New_York
BEGIN:VEVENT
UID:5780@stormking.org
DTSTART;TZID=America/New_York:20260605T141500
DTEND;TZID=America/New_York:20260605T151500
DTSTAMP:20260321T000810Z
URL:https://stormking.org/events/presidents-tour-2/
SUMMARY:Highlights Tour with John P. Stern
DESCRIPTION:\nTour the art center’s collection\, history\, and landscape 
 with Storm King’s President &amp\; Senior Advisor to the Board\, John P.
  Stern. Storm King was founded in 1960 by Stern’s father and grandfather
 \, and he led the museum for more than a decade before transitioning to hi
 s current role. This special Highlights Tour will include stories of the a
 rt center’s work with artists\, important artworks and commission\, and 
 growth from its founding to today.\n\nMeet in front of the Museum Building
 . Museum Hill is mostly flat grass and the tour may include some small hil
 ls.
CATEGORIES:Tours,Walks
END:VEVENT
BEGIN:VTIMEZONE
TZID:America/New_York
X-LIC-LOCATION:America/New_York
BEGIN:DAYLIGHT
DTSTART:20260308T030000
TZOFFSETFROM:-0500
TZOFFSETTO:-0400
TZNAME:EDT
END:DAYLIGHT
END:VTIMEZONE
END:VCALENDAR